BEGIN:VCALENDAR
VERSION:2.0
PRODID:-//ISPS UK - ECPv6.15.20//NONSGML v1.0//EN
CALSCALE:GREGORIAN
METHOD:PUBLISH
X-ORIGINAL-URL:https://www.ispsuk.org
X-WR-CALDESC:Events for ISPS UK
REFRESH-INTERVAL;VALUE=DURATION:PT1H
X-Robots-Tag:noindex
X-PUBLISHED-TTL:PT1H
BEGIN:VTIMEZONE
TZID:UTC
BEGIN:STANDARD
TZOFFSETFROM:+0000
TZOFFSETTO:+0000
TZNAME:UTC
DTSTART:20220101T000000
END:STANDARD
END:VTIMEZONE
BEGIN:VEVENT
DTSTART;TZID=UTC:20231103T120000
DTEND;TZID=UTC:20231103T133000
DTSTAMP:20260422T222830
CREATED:20231003T121421Z
LAST-MODIFIED:20231003T142428Z
UID:4027-1699012800-1699018200@www.ispsuk.org
SUMMARY:ISPS UK Reflective Group
DESCRIPTION:ISPS UK Reflective Group \n\n\n\nISPS UK would like to offer members our new reflective space\, a ninety-minute online forum every two months. \n\n\n\nAll members of ISPS are welcome. \n\n\n\nThis group will be particularly relevant for professionals – GPs\, nurses\, peer support workers\, psychiatrists\, psychologists\, social workers\, therapists etc.- to reflect on the challenges and rewards of working with people experiencing ‘psychosis’ in the current system. \n\n\n\nMembers who have an interest in ‘psychosis’ as one of the many forms of human experience may feel alone or alienated in their work. Others may want to share their ways of finding creative solutions. Our hope is that the group will be a source of mutual support\, listening\, community and belonging. \n\n\n\nThe group will be facilitated by ISPS trustees – Simon & Jess. Groups will be 12-1.30 pm on the dates below: \n\n\n\nFriday 3rd November 2023 \n\n\n\nFriday 12th January 2024 \n\n\n\nFriday 15th March 2024 \n\n\n\nFriday 10th May 2024 \n\n\n\nThere is no obligation to attend all of the available groups\, and members are free to attend as many or few as they want. \n\n\n\nHow do I join? \n\n\n\n  \n\n\n\nThis group is open to ISPS UK members only\, if you would like to become a member\, please follow this link. \n\n\n\nThe details on how to register for the event have been sent to members. If you are a member and would like to receive these details again\, please email admin@ispsuk.org. \n\n\n\n  \n\n\n\n  \n\n\n\n  \n\n\n\n 
URL:https://www.ispsuk.org/event/isps-uk-reflective-group/
LOCATION:Zoom
END:VEVENT
END:VCALENDAR