BEGIN:VCALENDAR
VERSION:2.0
PRODID:-//ISPS UK - ECPv6.15.20//NONSGML v1.0//EN
CALSCALE:GREGORIAN
METHOD:PUBLISH
X-WR-CALNAME:ISPS UK
X-ORIGINAL-URL:https://www.ispsuk.org
X-WR-CALDESC:Events for ISPS UK
REFRESH-INTERVAL;VALUE=DURATION:PT1H
X-Robots-Tag:noindex
X-PUBLISHED-TTL:PT1H
BEGIN:VTIMEZONE
TZID:UTC
BEGIN:STANDARD
TZOFFSETFROM:+0000
TZOFFSETTO:+0000
TZNAME:UTC
DTSTART:20230101T000000
END:STANDARD
END:VTIMEZONE
BEGIN:VEVENT
DTSTART;TZID=UTC:20240125T180000
DTEND;TZID=UTC:20240125T200000
DTSTAMP:20260422T194651
CREATED:20240109T162815Z
LAST-MODIFIED:20240109T165843Z
UID:4043-1706205600-1706212800@www.ispsuk.org
SUMMARY:Relationships with Anti Psychotics: Navigating Withdrawal Or Reduction
DESCRIPTION:Are you struggling with redcuing or withdrawing from anti psychotics? Or supporting someone who is? Join us for an insightful online event where we will explore the challenges and complexities of navigating withdrawal from these medications. \nOur speaker Mark Allen will talk to us about his journey withdrawing from anti psychotics and Dr Jeremy Wallace will talk about his experience supporting people through this process. \nDuring this event\, we will discuss various aspects of reducing or withdrawing from anti psychotics\, including the risks and opportunities in navigating this process. \nWhether you are considering reducing your medication or are already in the process\, this event will offer a safe space for discussion and learning. \n\n\nFor further information and to sign up please visit: https://navigatingwithdrawalisps.eventbrite.co.uk Everybody welcome!
URL:https://www.ispsuk.org/event/relationships-with-anti-psychotics-navigating-withdrawal-or-reduction/
LOCATION:Zoom
CATEGORIES:ISPS UK Webinar
END:VEVENT
END:VCALENDAR