BEGIN:VCALENDAR
VERSION:2.0
PRODID:-//ISPS UK - ECPv6.15.20//NONSGML v1.0//EN
CALSCALE:GREGORIAN
METHOD:PUBLISH
X-ORIGINAL-URL:https://www.ispsuk.org
X-WR-CALDESC:Events for ISPS UK
REFRESH-INTERVAL;VALUE=DURATION:PT1H
X-Robots-Tag:noindex
X-PUBLISHED-TTL:PT1H
BEGIN:VTIMEZONE
TZID:UTC
BEGIN:STANDARD
TZOFFSETFROM:+0000
TZOFFSETTO:+0000
TZNAME:UTC
DTSTART:20230101T000000
END:STANDARD
END:VTIMEZONE
BEGIN:VEVENT
DTSTART;TZID=UTC:20240426T120000
DTEND;TZID=UTC:20240426T163000
DTSTAMP:20260422T160739
CREATED:20240320T081756Z
LAST-MODIFIED:20240411T085222Z
UID:4061-1714132800-1714149000@www.ispsuk.org
SUMMARY:Psychosis: Why Relationships Matter (ISPS UK Seminar & Annual General Meeting)
DESCRIPTION:We are delighted to invite you to the Annual General Meeting of ISPS UK where we will be joined by three renowned guest speakers who will explore problems with the current paradigm and why relationships are crucial to social and psychologically informed approaches to ‘psychosis’. \nThe afternoon will begin with a series of exciting talks by Professor John Read\, Lisa Archibald and Dr Jacqui Dillon\, as we delve into why relationships matter for those living with the experience described as ‘psychosis’. We will explore the profound space between two individuals\, where connections are forged\, meaning is made\, and lives are transformed. How do these relationships happen within the context of mainstream services and how can we stay connected with people through crisis? \nOur three talks will be: \n• “How Diagnoses Keep People Apart” (Prof. John Read)\n• “First Do No Harm – Iatrogenic Harm in Mental Health” (Dr Jacqui Dillon)\n• “Intentional Peer Support – A relational approach to experiences that might get labelled as ‘psychosis’ ” (Lisa Archibald) \nThere will be an opportunity for some lively discussion with speakers and together we’ll explore the possibility of genuine collaboration in our work. \nThe Seminar will be followed at 3.30pm by the ISPS UK Annual General Meeting where you can learn more about our work this past year\, contribute to future decisions and discuss your thoughts/feedback with trustees. AGM papers will be circulated to members at least 14 days prior to the meeting. \nThis gathering provides us with the invaluable chance to come together\, share\, celebrate\, and collectively shape the path forward. We look forward to seeing you there. \nAttendance is free for ISPS UK members and we have a limited number of free places for LSBU students. Seminar tickets are £25 for non-members.
URL:https://www.ispsuk.org/event/why-relationships-matter-isps-uk-seminar-annual-general-meeting/
LOCATION:Keyworth Lecture Theatre\, Keyworth Arts and Media Centre\, London South Bank University\, Keyworth Street\, London\, SE1 6NG\, United Kingdom
CATEGORIES:Conference
END:VEVENT
END:VCALENDAR