BEGIN:VCALENDAR
VERSION:2.0
PRODID:-//ISPS UK - ECPv6.15.20//NONSGML v1.0//EN
CALSCALE:GREGORIAN
METHOD:PUBLISH
X-ORIGINAL-URL:https://www.ispsuk.org
X-WR-CALDESC:Events for ISPS UK
REFRESH-INTERVAL;VALUE=DURATION:PT1H
X-Robots-Tag:noindex
X-PUBLISHED-TTL:PT1H
BEGIN:VTIMEZONE
TZID:UTC
BEGIN:STANDARD
TZOFFSETFROM:+0000
TZOFFSETTO:+0000
TZNAME:UTC
DTSTART:20240101T000000
END:STANDARD
END:VTIMEZONE
BEGIN:VEVENT
DTSTART;TZID=UTC:20250219T180000
DTEND;TZID=UTC:20250219T200000
DTSTAMP:20260422T023559
CREATED:20241114T173017Z
LAST-MODIFIED:20250214T135045Z
UID:4164-1739988000-1739995200@www.ispsuk.org
SUMMARY:Member's Networking Event: Creating Common Ground
DESCRIPTION:We’re thrilled to invite all ISPS UK members to an online networking event to get to know one another better\, learn more about ISPS UK’s work and vision for the future\, share your stories and feedback with trustees\, and connect with members across our network – workers\, carers\, family & friends and those with lived experience all welcome!\n\nWe want to work with our members to create an active network of allies\, empowering each of us to do meaningful work in our own areas and make a bigger difference together. We look forward to seeing you there!\n\nFurther information to be sent ISPS UK members via email. Please contact admin@ispsuk.org with any queries.
URL:https://www.ispsuk.org/event/members-networking-event-creating-common-ground/
LOCATION:Zoom
CATEGORIES:Online event
END:VEVENT
END:VCALENDAR