BEGIN:VCALENDAR
VERSION:2.0
PRODID:-//ISPS UK - ECPv6.15.20//NONSGML v1.0//EN
CALSCALE:GREGORIAN
METHOD:PUBLISH
X-ORIGINAL-URL:https://www.ispsuk.org
X-WR-CALDESC:Events for ISPS UK
REFRESH-INTERVAL;VALUE=DURATION:PT1H
X-Robots-Tag:noindex
X-PUBLISHED-TTL:PT1H
BEGIN:VTIMEZONE
TZID:UTC
BEGIN:STANDARD
TZOFFSETFROM:+0000
TZOFFSETTO:+0000
TZNAME:UTC
DTSTART:20240101T000000
END:STANDARD
END:VTIMEZONE
BEGIN:VEVENT
DTSTART;TZID=UTC:20250625T180000
DTEND;TZID=UTC:20250625T200000
DTSTAMP:20260420T204248
CREATED:20241212T103308Z
LAST-MODIFIED:20250613T122750Z
UID:4185-1750874400-1750881600@www.ispsuk.org
SUMMARY:Member's Networking Event: Creating Common Ground
DESCRIPTION:We’re thrilled to invite all ISPS UK members to an online networking event to get to know one another better\, learn more about ISPS UK’s work and vision for the future\, share your stories and feedback with trustees\, and connect with members across our network – workers\, carers\, family & friends and those with lived experience all welcome!\n \n\n\n\nWe want to work with our members to create an active network of allies\, empowering each of us to do meaningful work in our own areas and make a bigger difference together. We look forward to seeing you there!\n \n\nDiscussion topics this quarter: \n\n“What brings you to ISPS?”\n“What one change would you like to see in the system?”\n“How are you going to be involved in making this happen?”\n\n\n \n\n\n\nFor details and registration\, please visit our Eventbrite page: https://www.eventbrite.co.uk/e/isps-uk-members-networking-event-tickets-1349581256869\n\n \nPlease contact events@ispsuk.org with any queries.
URL:https://www.ispsuk.org/event/members-networking-event-creating-common-ground-2/
LOCATION:Zoom
CATEGORIES:Online event
ATTACH;FMTTYPE=image/jpeg:https://www.ispsuk.org/wp-content/uploads/2025/02/alina-grubnyak-ZiQkhI7417A-unsplash-scaled.jpg
END:VEVENT
END:VCALENDAR