BEGIN:VCALENDAR
VERSION:2.0
PRODID:-//ISPS UK - ECPv6.15.20//NONSGML v1.0//EN
CALSCALE:GREGORIAN
METHOD:PUBLISH
X-WR-CALNAME:ISPS UK
X-ORIGINAL-URL:https://www.ispsuk.org
X-WR-CALDESC:Events for ISPS UK
REFRESH-INTERVAL;VALUE=DURATION:PT1H
X-Robots-Tag:noindex
X-PUBLISHED-TTL:PT1H
BEGIN:VTIMEZONE
TZID:UTC
BEGIN:STANDARD
TZOFFSETFROM:+0000
TZOFFSETTO:+0000
TZNAME:UTC
DTSTART:20220101T000000
END:STANDARD
END:VTIMEZONE
BEGIN:VEVENT
DTSTART;TZID=UTC:20240125T180000
DTEND;TZID=UTC:20240125T200000
DTSTAMP:20260422T014117
CREATED:20240109T162815Z
LAST-MODIFIED:20240109T165843Z
UID:4043-1706205600-1706212800@www.ispsuk.org
SUMMARY:Relationships with Anti Psychotics: Navigating Withdrawal Or Reduction
DESCRIPTION:Are you struggling with redcuing or withdrawing from anti psychotics? Or supporting someone who is? Join us for an insightful online event where we will explore the challenges and complexities of navigating withdrawal from these medications. \nOur speaker Mark Allen will talk to us about his journey withdrawing from anti psychotics and Dr Jeremy Wallace will talk about his experience supporting people through this process. \nDuring this event\, we will discuss various aspects of reducing or withdrawing from anti psychotics\, including the risks and opportunities in navigating this process. \nWhether you are considering reducing your medication or are already in the process\, this event will offer a safe space for discussion and learning. \n\n\nFor further information and to sign up please visit: https://navigatingwithdrawalisps.eventbrite.co.uk Everybody welcome!
URL:https://www.ispsuk.org/event/relationships-with-anti-psychotics-navigating-withdrawal-or-reduction/
LOCATION:Zoom
CATEGORIES:ISPS UK Webinar
END:VEVENT
BEGIN:VEVENT
DTSTART;TZID=UTC:20240112T120000
DTEND;TZID=UTC:20240112T133000
DTSTAMP:20260422T014117
CREATED:20231209T181236Z
LAST-MODIFIED:20240109T163321Z
UID:4037-1705060800-1705066200@www.ispsuk.org
SUMMARY:ISPS UK Reflective Group
DESCRIPTION:ISPS UK would like to offer members our new reflective space\, a ninety-minute online forum every two months. \nAll members of ISPS are welcome. \nThis group will be particularly relevant for professionals – GPs\, nurses\, peer support workers\, psychiatrists\, psychologists\, social workers\, therapists etc.- to reflect on the challenges and rewards of working with people experiencing ‘psychosis’ in the current system. \nMembers who have an interest in ‘psychosis’ as one of the many forms of human experience may feel alone or alienated in their work. Others may want to share their ways of finding creative solutions. Our hope is that the group will be a source of mutual support\, listening\, community and belonging. \nThe group will be facilitated by ISPS trustees – Simon & Jess. Groups will be 12-1.30 pm on the dates below: \nFriday 3rd November 2023 \nFriday 12th January 2024 \nFriday 15th March 2024 \nFriday 10th May 2024 \nThere is no obligation to attend all of the available groups\, and members are free to attend as many or few as they want. \n\n\n\nHow do I join? \n\n\n\n\n\nThis group is open to ISPS UK members only\, if you would like to become a member\, please follow this link. \n\n\n\nThe details on how to register for the event have been sent to members. If you are a member and would like to receive these details again\, please email admin@ispsuk.org.
URL:https://www.ispsuk.org/event/isps-uk-reflective-group-2/
LOCATION:Zoom
CATEGORIES:Online event
END:VEVENT
BEGIN:VEVENT
DTSTART;TZID=UTC:20231103T120000
DTEND;TZID=UTC:20231103T133000
DTSTAMP:20260422T014117
CREATED:20231003T121421Z
LAST-MODIFIED:20231003T142428Z
UID:4027-1699012800-1699018200@www.ispsuk.org
SUMMARY:ISPS UK Reflective Group
DESCRIPTION:ISPS UK Reflective Group \n\n\n\nISPS UK would like to offer members our new reflective space\, a ninety-minute online forum every two months. \n\n\n\nAll members of ISPS are welcome. \n\n\n\nThis group will be particularly relevant for professionals – GPs\, nurses\, peer support workers\, psychiatrists\, psychologists\, social workers\, therapists etc.- to reflect on the challenges and rewards of working with people experiencing ‘psychosis’ in the current system. \n\n\n\nMembers who have an interest in ‘psychosis’ as one of the many forms of human experience may feel alone or alienated in their work. Others may want to share their ways of finding creative solutions. Our hope is that the group will be a source of mutual support\, listening\, community and belonging. \n\n\n\nThe group will be facilitated by ISPS trustees – Simon & Jess. Groups will be 12-1.30 pm on the dates below: \n\n\n\nFriday 3rd November 2023 \n\n\n\nFriday 12th January 2024 \n\n\n\nFriday 15th March 2024 \n\n\n\nFriday 10th May 2024 \n\n\n\nThere is no obligation to attend all of the available groups\, and members are free to attend as many or few as they want. \n\n\n\nHow do I join? \n\n\n\n  \n\n\n\nThis group is open to ISPS UK members only\, if you would like to become a member\, please follow this link. \n\n\n\nThe details on how to register for the event have been sent to members. If you are a member and would like to receive these details again\, please email admin@ispsuk.org. \n\n\n\n  \n\n\n\n  \n\n\n\n  \n\n\n\n 
URL:https://www.ispsuk.org/event/isps-uk-reflective-group/
LOCATION:Zoom
END:VEVENT
BEGIN:VEVENT
DTSTART;TZID=UTC:20230912T093000
DTEND;TZID=UTC:20230912T160000
DTSTAMP:20260422T014117
CREATED:20230702T100625Z
LAST-MODIFIED:20230714T130520Z
UID:3953-1694511000-1694534400@www.ispsuk.org
SUMMARY:Love\, Patience and Kindness: Working in Different Ways with 'Psychosis'
DESCRIPTION:The aim of this conference is to explore how we can support each other to improve services and experience across sectors\, with a dialogue between people with experience of psychosis\, their families and networks\, and those working with them in all kinds of different settings\, such as community projects\, mental health services\, charities\, individual therapists. \nAn innovation and exploration event from the Psychosis Health Integration Team\, in partnership with the International Society for Psychological and Social Approaches to Psychosis UK\, and Bristol Hearing Voices Network. Supported by Bristol Health Partners\, Bristol\, North Somerset and South Gloucestershire Integrated Care Board\, the Elizabeth Blackwell Institute\, and ISPS UK. \nWe will hear from people with different perspectives on working with ‘psychosis’\, including: \nJacqui Dillon – Writer\, Activist and Consultant \nDorothee Bonnigal-Katz – Founder and Clinical Director of the Psychosis Therapy Project \nJames Robinson – Peer Support Worker\, Bristol Early Intervention in Psychosis Team\, Co-Director Bristol Psychosis Health Integration Team (HIT) \nJess Pons – ISPS UK Trustee\, Psychotherapist\, and project manager for https://synergiproject.org.uk/ a racial justice and mental health programme hosted by National Survivor User Network (NSUN) \nConor McCormack – Bristol Psychoanalyst in private practice \nHanna Van Der Woude – NHS Clinical Psychologist\, Training Lead for Psychosis \nSimon Downer – NHS Psychiatrist and Psychotherapist\, ISPS UK Trustee and Co-Director Bristol Psychosis HIT \nThe current discourse in psychiatry and mental health creates groups of those who are mentally ill and those who are mentally healthy. It defines ‘recovery’ from psychosis as a reinsertion or reintegration into mainstream society. Psychotic ‘patients’ are seen as faulty in some way\, and those from whom others (the healthy) need protection. \nThis conference will speak to a different narrative: that life itself is problematic\, and we are all finding our own solutions to that. We hope to begin a dialogue that allows ‘psychosis’\, and the ways that people experience that\, to be seen as a particular way of negotiating life. We will hear each other’s voices\, and put ourselves in a position of trying to understand. \nIn this creative and interactive conference\, we will be able to consider how we might build networks to support and learn from each other. \nRegister here: ‘Love\, Patience and Kindness: Working in Different Ways with Psychosis’ Conference Tickets\, Tue 12 Sept 2023 at 9:30 | Eventbrite \nDownload: Love\, Patience and Kindness – conference flyer
URL:https://www.ispsuk.org/event/love-patience-and-kindness-working-in-different-ways-with-psychosis/
LOCATION:M Shed\, Princes Wharf\, Wapping Road\, Bristol\, BS1 4RN\, United Kingdom
CATEGORIES:Conference
ATTACH;FMTTYPE=image/png:https://www.ispsuk.org/wp-content/uploads/2023/07/Final-ISPS-UK-Conference-flyer.png
END:VEVENT
BEGIN:VEVENT
DTSTART;TZID=UTC:20230713T183000
DTEND;TZID=UTC:20230713T203000
DTSTAMP:20260422T014117
CREATED:20230630T125308Z
LAST-MODIFIED:20230630T125308Z
UID:3934-1689273000-1689280200@www.ispsuk.org
SUMMARY:ISPS UK Webinar: Staff Relationships with Antipsychotics
DESCRIPTION:  \nOur series of three webinars\, Relationships with Anti-Psychotics\, continues on 13 July with Staff Relationships with Antipsychotics. \nWhat are the ethical dilemmas and personal conflicts that people working in mental health services face in relation to antipsychotic medications?  Simon Downer\, ISPS UK Trustee\, will Chair this webinar which will be a dialogue where health care professionals share their own experiences of inpatient and community work in relation to antipsychotics. How do psychiatrists learn to think with patients about medications? How do personal beliefs influence staff practice? Do healthcare professionals struggle with using medications? How are issues of power addressed in relation to antipsychotics? These and other questions will be explored by a panel of people working in psychiatry. The attendees will be invited to participate in the discussion. \nRegistration and more information \nRegistration is free for ISPS members\, please enter the promo code “Member” when registering.  Registration is via Eventbrite at  Relationships with Antipsychotics: Staff Relationships with Antipsychotics Tickets\, Thu 13 Jul 2023 at 18:30 | Eventbrite
URL:https://www.ispsuk.org/event/isps-uk-webinar-staff-relationships-with-antipsychotics/
LOCATION:Zoom
CATEGORIES:ISPS UK Webinar
ATTACH;FMTTYPE=image/jpeg:https://www.ispsuk.org/wp-content/uploads/2023/06/jimmy-chang-hupwsQVetkA-unsplash-scaled.jpg
END:VEVENT
END:VCALENDAR