BEGIN:VCALENDAR
VERSION:2.0
PRODID:-//ISPS UK - ECPv6.15.20//NONSGML v1.0//EN
CALSCALE:GREGORIAN
METHOD:PUBLISH
X-ORIGINAL-URL:https://www.ispsuk.org
X-WR-CALDESC:Events for ISPS UK
REFRESH-INTERVAL;VALUE=DURATION:PT1H
X-Robots-Tag:noindex
X-PUBLISHED-TTL:PT1H
BEGIN:VTIMEZONE
TZID:UTC
BEGIN:STANDARD
TZOFFSETFROM:+0000
TZOFFSETTO:+0000
TZNAME:UTC
DTSTART:20240101T000000
END:STANDARD
END:VTIMEZONE
BEGIN:VEVENT
DTSTART;TZID=UTC:20250212T183000
DTEND;TZID=UTC:20250212T200000
DTSTAMP:20260422T010815
CREATED:20241028T121507Z
LAST-MODIFIED:20241030T173833Z
UID:4150-1739385000-1739390400@www.ispsuk.org
SUMMARY:Raising Our Consciousness: Lived Experience Reflective Group
DESCRIPTION:This monthly reflective group is a space for people with lived experience of ‘psychosis’ to get together and explore the ideas\, beliefs\, values and philosophies we use to explain and make sense of our lived experience of distress and ‘psychosis’. \nFacilitated by ISPS Trustees Neil Caton and Jacqui Dillon. \n  \nHow do I get involved? \nMembers: This group is free to attend for ISPS UK members. The details on how to register for the event have been sent to members. If you are a member and would like to receive these details again\, please email admin@ispsuk.org. \nNon-Members: Non-members can attend for a £5 donation per session\, please email admin@ispsuk.org to register or alternatively if you would like to become a member\, please follow this link. Please get in touch in cases of financial hardship if you want to participate. 
URL:https://www.ispsuk.org/event/raising-our-consciousness-lived-experience-reflective-group-2/
LOCATION:Zoom
CATEGORIES:Online event
END:VEVENT
BEGIN:VEVENT
DTSTART;TZID=UTC:20250214T113000
DTEND;TZID=UTC:20250214T130000
DTSTAMP:20260422T010815
CREATED:20241203T134347Z
LAST-MODIFIED:20241212T104301Z
UID:4173-1739532600-1739538000@www.ispsuk.org
SUMMARY:Reflective Space
DESCRIPTION:ISPS UK is returning with our Reflective Space\, a ninety-minute online forum every month. \nThis group will be particularly relevant for workers – GPs\, nurses\, peer support workers\, psychiatrists\, psychologists\, social workers\, therapists etc – to reflect on the challenges and rewards of working with people experiencing ‘psychosis’ in the current system. \nThose who have an interest in ‘psychosis’ as one of the many forms of human experience may feel alone or alienated in their work. Others may want to share their ways of finding creative solutions. Our hope is that the group will be a source of mutual support\, listening\, community and belonging. \nThe group will be facilitated by ISPS UK trustees – Simon\, Jess & Dorothée. \nGroups will be 11.30am-1.00pm every second Friday of the month (with no group over August). \nPlease see below for dates for the first six months: \n\nFriday 13th December 2024\nFriday 10th January 2025\nFriday 14th February 2025\nFriday 14th March 2025\nFriday 11th April 2025\nFriday 9th May 2025\n\nThere is no obligation to attend all of the available groups\, and members are free to attend as many or few as they want. \nHow do I get involved? \nMembers: This group is free to attend for ISPS UK members. The details on how to register for the event have been sent to members. If you are a member and would like to receive these details again\, please email admin@ispsuk.org. \nNon-Members: Non-members can attend for a £5 donation per session\, please email admin@ispsuk.org to register or alternatively if you would like to become a member\, please follow this link. Please get in touch in cases of financial hardship if you want to participate. 
URL:https://www.ispsuk.org/event/reflective-space-3/
LOCATION:Zoom
CATEGORIES:Online event
END:VEVENT
BEGIN:VEVENT
DTSTART;TZID=UTC:20250219T180000
DTEND;TZID=UTC:20250219T200000
DTSTAMP:20260422T010815
CREATED:20241114T173017Z
LAST-MODIFIED:20250214T135045Z
UID:4164-1739988000-1739995200@www.ispsuk.org
SUMMARY:Member's Networking Event: Creating Common Ground
DESCRIPTION:We’re thrilled to invite all ISPS UK members to an online networking event to get to know one another better\, learn more about ISPS UK’s work and vision for the future\, share your stories and feedback with trustees\, and connect with members across our network – workers\, carers\, family & friends and those with lived experience all welcome!\n\nWe want to work with our members to create an active network of allies\, empowering each of us to do meaningful work in our own areas and make a bigger difference together. We look forward to seeing you there!\n\nFurther information to be sent ISPS UK members via email. Please contact admin@ispsuk.org with any queries.
URL:https://www.ispsuk.org/event/members-networking-event-creating-common-ground/
LOCATION:Zoom
CATEGORIES:Online event
END:VEVENT
END:VCALENDAR