BEGIN:VCALENDAR
VERSION:2.0
PRODID:-//ISPS UK - ECPv6.15.20//NONSGML v1.0//EN
CALSCALE:GREGORIAN
METHOD:PUBLISH
X-ORIGINAL-URL:https://www.ispsuk.org
X-WR-CALDESC:Events for ISPS UK
REFRESH-INTERVAL;VALUE=DURATION:PT1H
X-Robots-Tag:noindex
X-PUBLISHED-TTL:PT1H
BEGIN:VTIMEZONE
TZID:UTC
BEGIN:STANDARD
TZOFFSETFROM:+0000
TZOFFSETTO:+0000
TZNAME:UTC
DTSTART:20240101T000000
END:STANDARD
END:VTIMEZONE
BEGIN:VEVENT
DTSTART;TZID=UTC:20250111T140000
DTEND;TZID=UTC:20250111T160000
DTSTAMP:20260422T020317
CREATED:20241016T063850Z
LAST-MODIFIED:20241108T094905Z
UID:4137-1736604000-1736611200@www.ispsuk.org
SUMMARY:Family & Friends Journaling Group
DESCRIPTION:ISPS UK are delighted to introduce a new\, free online journaling group which is for family members and friends of people with lived experience of psychosis. The pilot group will be co-hosted by ISPS UK trustees Julia and Jen on the second Saturday of alternative months\, beginning in November 2024. All members of ISPS are welcome. \nQ: What is journaling? \nA: Journaling is a creative and informal practice of expressive writing. We start with a journaling prompt and then spend about 10 minutes responding to this in our journals. We follow this with a sharing and discussion space – but please note\, you are never required to share your writing or to speak if you don’t wish to. The session is 2 hours long and there will be time for 3 writing prompts per session (the prompts are provided by the facilitators). \nQ: Why is this group limited to friends/family members? \nA: Helping to care for someone who has experienced or is experiencing psychosis can be challenging\, confusing and emotionally draining. And dealing with mainstream mental health services can be often make things worse\, leaving you feeling frustrated and exhausted. At ISPS UK we recognise that the particular needs and concerns of friends and family members are often overlooked in the urgency of a crisis situation; we also know how important it is to be heard and to feel supported. This journaling group will offer a space in which to explore the issues that are relevant to friends/family members\, and to connect with others who have had similar experiences. \nQ: When will the journaling group take place? \nA: We have set up three dates in the calendar\, in order to conduct a pilot in the first instance. The dates and times are: \n\nSaturday 9th November 2024 14:00 to 16:00\nSaturday 11th January 2025 14:00 to 16:00\nSaturday 8th March 2025 14:00 to 16:00\n\nAfter this initial pilot period\, we will welcome feedback and will review the project for things such as timing\, frequency and format of the sessions. It may be felt that a longer session time is wanted; or a move to monthly sessions. All participants will be invited to share their feedback and preferences with us. \nQ: Must I commit to every session? \nA: No\, you may attend any or all of the dates. These will be stand-alone sessions. \nQ: Do I need to bring anything? \nA: Just bring along a notebook or journal or even loose sheets\, on which to write\, and a pen or pencil that is comfortable to write with. This will be your own personal space in which to record your thoughts\, feelings and ideas – so please do find a way to keep this journal secure and private to yourself. \nQ: How do I get involved? \nA: \nMembers: This group is free to attend for ISPS UK members. The details on how to register for the event have been sent to members. If you are a member and would like to receive these details again\, please email admin@ispsuk.org. \nNon-Members: Non-members can attend for a £5 donation per session\, please email admin@ispsuk.org to register or alternatively if you would like to become a member\, please follow this link. Please get in touch in cases of financial hardship if you want to participate.  \n 
URL:https://www.ispsuk.org/event/family-friends-journaling-group-2/
LOCATION:Zoom
CATEGORIES:Online event
END:VEVENT
END:VCALENDAR